BEGIN:VCALENDAR
VERSION:2.0
PRODID:-//ChamberMaster//Event Calendar 2.0//EN
METHOD:PUBLISH
X-PUBLISHED-TTL:P3D
REFRESH-INTERVAL:P3D
CALSCALE:GREGORIAN
BEGIN:VEVENT
DTSTART:20190919T183000Z
DTEND:20190919T193000Z
X-MICROSOFT-CDO-ALLDAYEVENT:FALSE
SUMMARY:THINK SC Workforce Development Committee
DESCRIPTION:
X-ALT-DESC;FMTTYPE=text/html:
LOCATION:
UID:e.2014.1364
SEQUENCE:3
DTSTAMP:20260420T222321Z
URL:http://sanduskycountychamber.chambermaster.com/events/details/think-sc-workforce-development-committee-1364
END:VEVENT

END:VCALENDAR
