BEGIN:VCALENDAR
VERSION:2.0
PRODID:-//ChamberMaster//Event Calendar 2.0//EN
METHOD:PUBLISH
X-PUBLISHED-TTL:P3D
REFRESH-INTERVAL:P3D
CALSCALE:GREGORIAN
BEGIN:VEVENT
DTSTART:20190913T130000Z
DTEND:20190913T200000Z
X-MICROSOFT-CDO-ALLDAYEVENT:FALSE
SUMMARY:Golf Outing 2019
DESCRIPTION:An annual late-summer golf outing at one of the fine local golf clubs is an opportunity to network with other business people and entertain associates or clients. It is also an affordable way to promote your business in front of a business audience. The outing is scheduled for Friday\, September 13th with a mid morning tee off followed by awards.\n\n \nRegistration Includes:\n\n18 holes of golf & cart\n\nPoker Run\, Contests \n\nGift for each player\n\nBeverage Ticket\n\nLunch\n\nDinner\n\nSchedule of Events:\n\n9:00 a.m. - Registration\n\n10:00 a.m. - Shotgun Start\n\nAt the turn - Lunch & Chipping Contest\n\nFollowing Play - Awards & Dinner\n\nPrizes will be awarded to the first\, second and third place teams.\n\n\n\nRSVP by August 27th. \n\n\n\nCheck back for the 2019 Golf Outing Registration Form\n\nContact pcoord@scchamber.org or 419.332.1591 to find out more information.
X-ALT-DESC;FMTTYPE=text/html:An annual late-summer golf outing at one of the fine local golf clubs is an opportunity to network with other business people and entertain associates or clients. It is also an affordable way to promote your business in front of a business audience. The outing is scheduled for Friday\, September 13th with a mid morning tee off followed by awards.<br />\n&nbsp\;\n<p>Registration Includes:</p>\n\n<p>18 holes of golf &amp\; cart<br />\nPoker Run\, Contests&nbsp\;<br />\nGift for each player<br />\nBeverage Ticket<br />\nLunch<br />\nDinner</p>\n\n<p>Schedule of Events:</p>\n\n<p>9:00 a.m. - Registration<br />\n10:00 a.m. - Shotgun Start<br />\nAt the turn - Lunch &amp\; Chipping Contest<br />\nFollowing Play - Awards &amp\; Dinner</p>\n\n<p>Prizes will be awarded to the first\, second and third place&nbsp\;teams.<br />\n<br />\nRSVP by August 27th.&nbsp\;<br />\n<br />\nCheck back for the 2019&nbsp\;Golf Outing Registration Form</p>\n\n<p>Contact&nbsp\;pcoord@scchamber.org or 419.332.1591 to find out more information.<br />\n<br />\n&nbsp\;</p>\n
LOCATION:Sycamore Hills 3728 W. Hayes Ave. Fremont\, OH 43420
UID:e.2014.1123
SEQUENCE:3
DTSTAMP:20260422T023202Z
URL:http://sanduskycountychamber.chambermaster.com/events/details/golf-outing-2019-1123
END:VEVENT

END:VCALENDAR
